BEGIN:VCALENDAR
VERSION:2.0
PRODID:-//Eaglerock Golf Course - ECPv6.15.17.1//NONSGML v1.0//EN
CALSCALE:GREGORIAN
METHOD:PUBLISH
X-WR-CALNAME:Eaglerock Golf Course
X-ORIGINAL-URL:https://www.eaglerockgolfcourse.com
X-WR-CALDESC:Events for Eaglerock Golf Course
REFRESH-INTERVAL;VALUE=DURATION:PT1H
X-Robots-Tag:noindex
X-PUBLISHED-TTL:PT1H
BEGIN:VTIMEZONE
TZID:America/Denver
BEGIN:DAYLIGHT
TZOFFSETFROM:-0700
TZOFFSETTO:-0600
TZNAME:MDT
DTSTART:20180311T090000
END:DAYLIGHT
BEGIN:STANDARD
TZOFFSETFROM:-0600
TZOFFSETTO:-0700
TZNAME:MST
DTSTART:20181104T080000
END:STANDARD
BEGIN:DAYLIGHT
TZOFFSETFROM:-0700
TZOFFSETTO:-0600
TZNAME:MDT
DTSTART:20190310T090000
END:DAYLIGHT
BEGIN:STANDARD
TZOFFSETFROM:-0600
TZOFFSETTO:-0700
TZNAME:MST
DTSTART:20191103T080000
END:STANDARD
BEGIN:DAYLIGHT
TZOFFSETFROM:-0700
TZOFFSETTO:-0600
TZNAME:MDT
DTSTART:20200308T090000
END:DAYLIGHT
BEGIN:STANDARD
TZOFFSETFROM:-0600
TZOFFSETTO:-0700
TZNAME:MST
DTSTART:20201101T080000
END:STANDARD
END:VTIMEZONE
BEGIN:VEVENT
DTSTART;TZID=America/Denver:20190502T173000
DTEND;TZID=America/Denver:20190827T203000
DTSTAMP:20260419T234619
CREATED:20180724T035435Z
LAST-MODIFIED:20190805T031252Z
UID:2185-1556818200-1566937800@www.eaglerockgolfcourse.com
SUMMARY:Ladies Night Out
DESCRIPTION:
URL:https://www.eaglerockgolfcourse.com/calendar/ladies-night-out/
LOCATION:MT
END:VEVENT
END:VCALENDAR