BEGIN:VCALENDAR
VERSION:2.0
PRODID:-//Eaglerock Golf Course - ECPv6.15.17.1//NONSGML v1.0//EN
CALSCALE:GREGORIAN
METHOD:PUBLISH
X-WR-CALNAME:Eaglerock Golf Course
X-ORIGINAL-URL:https://www.eaglerockgolfcourse.com
X-WR-CALDESC:Events for Eaglerock Golf Course
REFRESH-INTERVAL;VALUE=DURATION:PT1H
X-Robots-Tag:noindex
X-PUBLISHED-TTL:PT1H
BEGIN:VTIMEZONE
TZID:America/Denver
BEGIN:DAYLIGHT
TZOFFSETFROM:-0700
TZOFFSETTO:-0600
TZNAME:MDT
DTSTART:20170312T090000
END:DAYLIGHT
BEGIN:STANDARD
TZOFFSETFROM:-0600
TZOFFSETTO:-0700
TZNAME:MST
DTSTART:20171105T080000
END:STANDARD
BEGIN:DAYLIGHT
TZOFFSETFROM:-0700
TZOFFSETTO:-0600
TZNAME:MDT
DTSTART:20180311T090000
END:DAYLIGHT
BEGIN:STANDARD
TZOFFSETFROM:-0600
TZOFFSETTO:-0700
TZNAME:MST
DTSTART:20181104T080000
END:STANDARD
BEGIN:DAYLIGHT
TZOFFSETFROM:-0700
TZOFFSETTO:-0600
TZNAME:MDT
DTSTART:20190310T090000
END:DAYLIGHT
BEGIN:STANDARD
TZOFFSETFROM:-0600
TZOFFSETTO:-0700
TZNAME:MST
DTSTART:20191103T080000
END:STANDARD
END:VTIMEZONE
BEGIN:VEVENT
DTSTART;TZID=America/Denver:20180907T080000
DTEND;TZID=America/Denver:20180907T170000
DTSTAMP:20260421T024544
CREATED:20180807T183329Z
LAST-MODIFIED:20180807T190055Z
UID:1739-1536307200-1536339600@www.eaglerockgolfcourse.com
SUMMARY:8th Annual Women's Triad\, September 7th\, 2018
DESCRIPTION:September is Triad time! It’s Margaritaville… \nChanges in Attitude\, Changes in Latitude – it’s time for Golf and a Parrot Party!
URL:https://www.eaglerockgolfcourse.com/calendar/8th-annual-womens-triad-september-7th-2018/
LOCATION:Eaglerock Golf Course\, 5624 Larimer Lane\, Billings\, MT\, 59105\, United States
ORGANIZER;CN="Eaglerock Golf Course":MAILTO:teetimes@eaglerockgolfcourse.com
END:VEVENT
BEGIN:VEVENT
DTSTART;TZID=America/Denver:20180908T080000
DTEND;TZID=America/Denver:20180908T170000
DTSTAMP:20260421T024544
CREATED:20180807T183004Z
LAST-MODIFIED:20180807T190854Z
UID:1759-1536393600-1536426000@www.eaglerockgolfcourse.com
SUMMARY:1st Annual Triad Party - Saturday\, Sept 8th\, 2018
DESCRIPTION:
URL:https://www.eaglerockgolfcourse.com/calendar/1st-annual-triad-party-saturday-sept-8th-2018/
LOCATION:Eaglerock Golf Course\, 5624 Larimer Lane\, Billings\, MT\, 59105\, United States
ORGANIZER;CN="Eaglerock Golf Course":MAILTO:teetimes@eaglerockgolfcourse.com
END:VEVENT
END:VCALENDAR