BEGIN:VCALENDAR
VERSION:2.0
PRODID:-//Eaglerock Golf Course - ECPv6.15.17.1//NONSGML v1.0//EN
CALSCALE:GREGORIAN
METHOD:PUBLISH
X-ORIGINAL-URL:https://www.eaglerockgolfcourse.com
X-WR-CALDESC:Events for Eaglerock Golf Course
REFRESH-INTERVAL;VALUE=DURATION:PT1H
X-Robots-Tag:noindex
X-PUBLISHED-TTL:PT1H
BEGIN:VTIMEZONE
TZID:America/Denver
BEGIN:DAYLIGHT
TZOFFSETFROM:-0700
TZOFFSETTO:-0600
TZNAME:MDT
DTSTART:20180311T090000
END:DAYLIGHT
BEGIN:STANDARD
TZOFFSETFROM:-0600
TZOFFSETTO:-0700
TZNAME:MST
DTSTART:20181104T080000
END:STANDARD
BEGIN:DAYLIGHT
TZOFFSETFROM:-0700
TZOFFSETTO:-0600
TZNAME:MDT
DTSTART:20190310T090000
END:DAYLIGHT
BEGIN:STANDARD
TZOFFSETFROM:-0600
TZOFFSETTO:-0700
TZNAME:MST
DTSTART:20191103T080000
END:STANDARD
BEGIN:DAYLIGHT
TZOFFSETFROM:-0700
TZOFFSETTO:-0600
TZNAME:MDT
DTSTART:20200308T090000
END:DAYLIGHT
BEGIN:STANDARD
TZOFFSETFROM:-0600
TZOFFSETTO:-0700
TZNAME:MST
DTSTART:20201101T080000
END:STANDARD
END:VTIMEZONE
BEGIN:VEVENT
DTSTART;TZID=America/Denver:20190411T080000
DTEND;TZID=America/Denver:20190411T120000
DTSTAMP:20260419T125528
CREATED:20190228T033912Z
LAST-MODIFIED:20210417T132056Z
UID:2082-1554969600-1554984000@www.eaglerockgolfcourse.com
SUMMARY:2 Person Best Ball every Thursday
DESCRIPTION:
URL:https://www.eaglerockgolfcourse.com/calendar/2-person-best-ball-every-thursday/
LOCATION:Eaglerock Golf Course\, 5624 Larimer Lane\, Billings\, MT\, 59105\, United States
ATTACH;FMTTYPE=image/jpeg:https://www.eaglerockgolfcourse.com/wp-content/uploads/fullsizeoutput_2eac.jpeg
END:VEVENT
BEGIN:VEVENT
DTSTART;TZID=America/Denver:20190412T080000
DTEND;TZID=America/Denver:20190412T140000
DTSTAMP:20260419T125528
CREATED:20190228T041928Z
LAST-MODIFIED:20190228T041928Z
UID:2112-1555056000-1555077600@www.eaglerockgolfcourse.com
SUMMARY:2 Person Skins  Scrambles
DESCRIPTION:Friday Skins Scramble $30p/$60 team
URL:https://www.eaglerockgolfcourse.com/calendar/2-person-skins-scrambles/
LOCATION:Eaglerock Golf Course\, 5624 Larimer Lane\, Billings\, MT\, 59105\, United States
ATTACH;FMTTYPE=image/jpeg:https://www.eaglerockgolfcourse.com/wp-content/uploads/fullsizeoutput_2eb9.jpeg
END:VEVENT
BEGIN:VEVENT
DTSTART;TZID=America/Denver:20190413T100000
DTEND;TZID=America/Denver:20190413T150000
DTSTAMP:20260419T125528
CREATED:20190301T150517Z
LAST-MODIFIED:20190301T150517Z
UID:2123-1555149600-1555167600@www.eaglerockgolfcourse.com
SUMMARY:Three Club Open
DESCRIPTION:
URL:https://www.eaglerockgolfcourse.com/calendar/three-club-open/
LOCATION:Eaglerock Golf Course\, 5624 Larimer Lane\, Billings\, MT\, 59105\, United States
ATTACH;FMTTYPE=image/jpeg:https://www.eaglerockgolfcourse.com/wp-content/uploads/fullsizeoutput_2ec2.jpeg
END:VEVENT
BEGIN:VEVENT
DTSTART;TZID=America/Denver:20190416T180000
DTEND;TZID=America/Denver:20190416T210000
DTSTAMP:20260419T125528
CREATED:20160315T154057Z
LAST-MODIFIED:20190216T194803Z
UID:1200-1555437600-1555448400@www.eaglerockgolfcourse.com
SUMMARY:6pm - Tuesday Ladies Night Out
DESCRIPTION:LADIES THIS YOUR CHANCE: Learn how to play golf in a FUN\, relaxing way. \nThere are NO teams or League fee’s. You can come every week an invite someone new. There is no weekly commitment but we want it to be so much fun that you will want to play often. The more you play the more chances you have to win our $1500 prize from Riddles Jewelry. \nClinic starts at 5:30 each week \nNon-golf option starts at 6:00 with hour lesson and 1 drink ticket.  FUN Golfers tee off at 6pm and will play for flags. \nSerious/FUN golfers pay $2 bucks and play for cash and flags.
URL:https://www.eaglerockgolfcourse.com/calendar/tuesdayy-night-ladies-league-2016-10-27-2018-04-26/
LOCATION:Eaglerock Golf Course\, 5624 Larimer Lane\, Billings\, MT\, 59105\, United States
ATTACH;FMTTYPE=image/jpeg:https://www.eaglerockgolfcourse.com/wp-content/uploads/ladies_night_out_800-2.jpg
END:VEVENT
BEGIN:VEVENT
DTSTART;TZID=America/Denver:20190417T180000
DTEND;TZID=America/Denver:20190417T210000
DTSTAMP:20260419T125528
CREATED:20191119T204124Z
LAST-MODIFIED:20181118T012800Z
UID:1308-1555524000-1555534800@www.eaglerockgolfcourse.com
SUMMARY:6pm - Wednesday Men's Skins Game
DESCRIPTION:Weekly Men’s Skins Game! \nCall ProShop for details. \n406-655-4445
URL:https://www.eaglerockgolfcourse.com/calendar/new-for-2019-d-d-skins/
LOCATION:Eaglerock Golf Course\, 5624 Larimer Lane\, Billings\, MT\, 59105\, United States
END:VEVENT
BEGIN:VEVENT
DTSTART;TZID=America/Denver:20190428T080000
DTEND;TZID=America/Denver:20190428T130000
DTSTAMP:20260419T125528
CREATED:20190413T012011Z
LAST-MODIFIED:20190413T210124Z
UID:2182-1556438400-1556456400@www.eaglerockgolfcourse.com
SUMMARY:Lunch Scramble
DESCRIPTION:Four Person Lunch Scramble  8am checkin and tee off at 9am \ngross &net pay outs \nmake your team / or sign up individually \nmembers-$20 non-members $45 carts optional $14 person. Fees include coffee\, golf & lunch
URL:https://www.eaglerockgolfcourse.com/calendar/lunch-scramble-2/
LOCATION:MT
END:VEVENT
END:VCALENDAR