BEGIN:VCALENDAR
VERSION:2.0
PRODID:-//Eaglerock Golf Course - ECPv6.15.17.1//NONSGML v1.0//EN
CALSCALE:GREGORIAN
METHOD:PUBLISH
X-WR-CALNAME:Eaglerock Golf Course
X-ORIGINAL-URL:https://www.eaglerockgolfcourse.com
X-WR-CALDESC:Events for Eaglerock Golf Course
REFRESH-INTERVAL;VALUE=DURATION:PT1H
X-Robots-Tag:noindex
X-PUBLISHED-TTL:PT1H
BEGIN:VTIMEZONE
TZID:America/Denver
BEGIN:DAYLIGHT
TZOFFSETFROM:-0700
TZOFFSETTO:-0600
TZNAME:MDT
DTSTART:20200308T090000
END:DAYLIGHT
BEGIN:STANDARD
TZOFFSETFROM:-0600
TZOFFSETTO:-0700
TZNAME:MST
DTSTART:20201101T080000
END:STANDARD
BEGIN:DAYLIGHT
TZOFFSETFROM:-0700
TZOFFSETTO:-0600
TZNAME:MDT
DTSTART:20210314T090000
END:DAYLIGHT
BEGIN:STANDARD
TZOFFSETFROM:-0600
TZOFFSETTO:-0700
TZNAME:MST
DTSTART:20211107T080000
END:STANDARD
BEGIN:DAYLIGHT
TZOFFSETFROM:-0700
TZOFFSETTO:-0600
TZNAME:MDT
DTSTART:20220313T090000
END:DAYLIGHT
BEGIN:STANDARD
TZOFFSETFROM:-0600
TZOFFSETTO:-0700
TZNAME:MST
DTSTART:20221106T080000
END:STANDARD
END:VTIMEZONE
BEGIN:VEVENT
DTSTART;TZID=America/Denver:20210420T183000
DTEND;TZID=America/Denver:20210420T193000
DTSTAMP:20260420T025125
CREATED:20210417T123718Z
LAST-MODIFIED:20210417T123718Z
UID:2515-1618943400-1618947000@www.eaglerockgolfcourse.com
SUMMARY:LNO Kickoff meeting
DESCRIPTION:
URL:https://www.eaglerockgolfcourse.com/calendar/lno-kickoff-meeting/
LOCATION:MT
END:VEVENT
BEGIN:VEVENT
DTSTART;TZID=America/Denver:20210421T183000
DTEND;TZID=America/Denver:20210421T193000
DTSTAMP:20260420T025125
CREATED:20210417T124214Z
LAST-MODIFIED:20210417T124214Z
UID:2517-1619029800-1619033400@www.eaglerockgolfcourse.com
SUMMARY:Men's Night Kick off Meeting
DESCRIPTION:
URL:https://www.eaglerockgolfcourse.com/calendar/mens-night-kick-off-meeting/
LOCATION:MT
END:VEVENT
BEGIN:VEVENT
DTSTART;TZID=America/Denver:20210427T173000
DTEND;TZID=America/Denver:20210427T203000
DTSTAMP:20260420T025125
CREATED:20210417T124714Z
LAST-MODIFIED:20210417T124714Z
UID:2521-1619544600-1619555400@www.eaglerockgolfcourse.com
SUMMARY:Ladies night Out
DESCRIPTION:
URL:https://www.eaglerockgolfcourse.com/calendar/ladies-night-out-2/
LOCATION:MT
END:VEVENT
BEGIN:VEVENT
DTSTART;TZID=America/Denver:20210428T180000
DTEND;TZID=America/Denver:20210428T203000
DTSTAMP:20260420T025125
CREATED:20210417T132510Z
LAST-MODIFIED:20210417T132527Z
UID:2588-1619632800-1619641800@www.eaglerockgolfcourse.com
SUMMARY:Mens Fun Night/Skins
DESCRIPTION:
URL:https://www.eaglerockgolfcourse.com/calendar/mens-fun-night-skins/
LOCATION:MT
END:VEVENT
BEGIN:VEVENT
DTSTART;TZID=America/Denver:20210429T183000
DTEND;TZID=America/Denver:20210429T193000
DTSTAMP:20260420T025125
CREATED:20210417T124421Z
LAST-MODIFIED:20210417T124421Z
UID:2519-1619721000-1619724600@www.eaglerockgolfcourse.com
SUMMARY:Couples Night League Kick off meeting
DESCRIPTION:
URL:https://www.eaglerockgolfcourse.com/calendar/couples-night-league-kick-off-meeting/
LOCATION:MT
END:VEVENT
END:VCALENDAR